BEGIN:VCALENDAR
VERSION:2.0
PRODID:-//JAくろべ - ECPv4.6.13//NONSGML v1.0//EN
CALSCALE:GREGORIAN
METHOD:PUBLISH
X-WR-CALNAME:JAくろべ
X-ORIGINAL-URL:https://www.ja-kurobe.jp
X-WR-CALDESC:Events for JAくろべ
BEGIN:VEVENT
DTSTART;VALUE=DATE:20161209
DTEND;VALUE=DATE:20161210
DTSTAMP:20260421T095723
CREATED:20170107T011202Z
LAST-MODIFIED:20170107T011202Z
UID:4408-1481241600-1481327999@www.ja-kurobe.jp
SUMMARY:ラッピング講習会
DESCRIPTION:\n		\n			#gallery-1 {\n				margin: auto;\n			}\n			#gallery-1 .gallery-item {\n				float: left;\n				margin-top: 10px;\n				text-align: center;\n				width: 33%;\n			}\n			#gallery-1 img {\n				border: 2px solid #cfcfcf;\n			}\n			#gallery-1 .gallery-caption {\n				margin-left: 0;\n			}\n			/* see gallery_shortcode() in wp-includes/media.php */\n		\n		\n			\n				\n			\n				\n				紙を無駄にしないラッピング技術を学びます\n				\n			\n				\n			\n				\n				真剣に作業に取り組む参加者\n				\n			\n				\n			\n				\n				様々なサンプルが並んでいました\n				\n			\n				\n			\n				\n				熨斗についての講義もありました\n				\n			\n		\n\n
URL:https://www.ja-kurobe.jp/tribe_events/20161209wrapping/
END:VEVENT
END:VCALENDAR