BEGIN:VCALENDAR
VERSION:2.0
PRODID:-//JAくろべ - ECPv4.6.13//NONSGML v1.0//EN
CALSCALE:GREGORIAN
METHOD:PUBLISH
X-WR-CALNAME:JAくろべ
X-ORIGINAL-URL:https://www.ja-kurobe.jp
X-WR-CALDESC:Events for JAくろべ
BEGIN:VEVENT
DTSTART;VALUE=DATE:20161208
DTEND;VALUE=DATE:20161209
DTSTAMP:20260421T095907
CREATED:20170107T011125Z
LAST-MODIFIED:20170107T011125Z
UID:4401-1481155200-1481241599@www.ja-kurobe.jp
SUMMARY:アグリ店内リニューアル
DESCRIPTION:\n		\n			#gallery-1 {\n				margin: auto;\n			}\n			#gallery-1 .gallery-item {\n				float: left;\n				margin-top: 10px;\n				text-align: center;\n				width: 33%;\n			}\n			#gallery-1 img {\n				border: 2px solid #cfcfcf;\n			}\n			#gallery-1 .gallery-caption {\n				margin-left: 0;\n			}\n			/* see gallery_shortcode() in wp-includes/media.php */\n		\n		\n			\n				\n			\n				\n				皆様のご来店をお待ちしています\n				\n			\n				\n			\n				\n				看板も新しくなっています！\n				\n			\n				\n			\n				\n				新鮮野菜のお買い求めは当店で！\n				\n			\n				\n			\n				\n				地元野菜を安価で数多く取り揃えています\n				\n			\n				\n			\n				\n				店内をすっきりとリニューアルしました♪\n				\n			\n		\n\n
URL:https://www.ja-kurobe.jp/tribe_events/20161208aguri/
END:VEVENT
END:VCALENDAR