BEGIN:VCALENDAR
VERSION:2.0
PRODID:-//JAくろべ - ECPv4.6.13//NONSGML v1.0//EN
CALSCALE:GREGORIAN
METHOD:PUBLISH
X-WR-CALNAME:JAくろべ
X-ORIGINAL-URL:https://www.ja-kurobe.jp
X-WR-CALDESC:Events for JAくろべ
BEGIN:VEVENT
DTSTART;VALUE=DATE:20160825
DTEND;VALUE=DATE:20160826
DTSTAMP:20260421T233438
CREATED:20160917T012722Z
LAST-MODIFIED:20160917T020221Z
UID:4033-1472083200-1472169599@www.ja-kurobe.jp
SUMMARY:CE米初荷受け
DESCRIPTION:\n		\n			#gallery-1 {\n				margin: auto;\n			}\n			#gallery-1 .gallery-item {\n				float: left;\n				margin-top: 10px;\n				text-align: center;\n				width: 33%;\n			}\n			#gallery-1 img {\n				border: 2px solid #cfcfcf;\n			}\n			#gallery-1 .gallery-caption {\n				margin-left: 0;\n			}\n			/* see gallery_shortcode() in wp-includes/media.php */\n		\n		\n			\n				\n			\n				\n				「てんたかく」刈り取りの様子\n				\n			\n				\n			\n				\n				初めてＣＥにて「てんたかく」を乾燥調整\n				\n			\n				\n			\n				\n				今年も品質・食味共に良好です\n				\n			\n				\n			\n				\n				トラックスケールで米の出荷\n				\n			\n		\n\n
URL:https://www.ja-kurobe.jp/tribe_events/20160825/
END:VEVENT
END:VCALENDAR