BEGIN:VCALENDAR
VERSION:2.0
PRODID:-//JAくろべ - ECPv4.6.13//NONSGML v1.0//EN
CALSCALE:GREGORIAN
METHOD:PUBLISH
X-WR-CALNAME:JAくろべ
X-ORIGINAL-URL:https://www.ja-kurobe.jp
X-WR-CALDESC:Events for JAくろべ
BEGIN:VEVENT
DTSTART;VALUE=DATE:20160820
DTEND;VALUE=DATE:20160821
DTSTAMP:20260421T214522
CREATED:20160917T013656Z
LAST-MODIFIED:20160917T020351Z
UID:4045-1471651200-1471737599@www.ja-kurobe.jp
SUMMARY:ボッサファーム
DESCRIPTION:\n		\n			#gallery-1 {\n				margin: auto;\n			}\n			#gallery-1 .gallery-item {\n				float: left;\n				margin-top: 10px;\n				text-align: center;\n				width: 33%;\n			}\n			#gallery-1 img {\n				border: 2px solid #cfcfcf;\n			}\n			#gallery-1 .gallery-caption {\n				margin-left: 0;\n			}\n			/* see gallery_shortcode() in wp-includes/media.php */\n		\n		\n			\n				\n			\n				\n				量り売りで販売しています\n				\n			\n				\n			\n				\n				ぶどう狩りもできます！\n				\n			\n				\n			\n				\n				珍しい品種も栽培しています！\n				\n			\n				\n			\n				\n				テラス席で食べることもできます\n				\n			\n				\n			\n				\n				お気軽にご来店ください\n				\n			\n		\n\n
URL:https://www.ja-kurobe.jp/tribe_events/20160820/
END:VEVENT
END:VCALENDAR