BEGIN:VCALENDAR
VERSION:2.0
PRODID:-//JAくろべ - ECPv4.6.13//NONSGML v1.0//EN
CALSCALE:GREGORIAN
METHOD:PUBLISH
X-WR-CALNAME:JAくろべ
X-ORIGINAL-URL:https://www.ja-kurobe.jp
X-WR-CALDESC:Events for JAくろべ
BEGIN:VEVENT
DTSTART;VALUE=DATE:20161019
DTEND;VALUE=DATE:20161020
DTSTAMP:20260421T182400
CREATED:20161111T015354Z
LAST-MODIFIED:20161111T015354Z
UID:4223-1476835200-1476921599@www.ja-kurobe.jp
SUMMARY:いも掘り
DESCRIPTION:\n		\n			#gallery-1 {\n				margin: auto;\n			}\n			#gallery-1 .gallery-item {\n				float: left;\n				margin-top: 10px;\n				text-align: center;\n				width: 33%;\n			}\n			#gallery-1 img {\n				border: 2px solid #cfcfcf;\n			}\n			#gallery-1 .gallery-caption {\n				margin-left: 0;\n			}\n			/* see gallery_shortcode() in wp-includes/media.php */\n		\n		\n			\n				\n			\n				\n				こんなにたくさん掘れました☆\n				\n			\n				\n			\n				\n				一生懸命掘っています！\n				\n			\n				\n			\n				\n				大きいのとれたよ♪\n				\n			\n				\n			\n				\n				泥だらけだけど楽しい～♪\n				\n			\n				\n			\n				\n				持ち上がらないくらい豊作でした！\n				\n			\n				\n			\n				\n				食べるのが楽しみ\n				\n		\n\n
URL:https://www.ja-kurobe.jp/tribe_events/10_19/
END:VEVENT
END:VCALENDAR