BEGIN:VCALENDAR
VERSION:2.0
PRODID:-//JAくろべ - ECPv4.6.13//NONSGML v1.0//EN
CALSCALE:GREGORIAN
METHOD:PUBLISH
X-WR-CALNAME:JAくろべ
X-ORIGINAL-URL:https://www.ja-kurobe.jp
X-WR-CALDESC:Events for JAくろべ
BEGIN:VEVENT
DTSTART;VALUE=DATE:20161018
DTEND;VALUE=DATE:20161019
DTSTAMP:20260421T145507
CREATED:20161111T015138Z
LAST-MODIFIED:20161111T015651Z
UID:4208-1476748800-1476835199@www.ja-kurobe.jp
SUMMARY:バケツ稲作（桜井小）
DESCRIPTION:\n		\n			#gallery-1 {\n				margin: auto;\n			}\n			#gallery-1 .gallery-item {\n				float: left;\n				margin-top: 10px;\n				text-align: center;\n				width: 33%;\n			}\n			#gallery-1 img {\n				border: 2px solid #cfcfcf;\n			}\n			#gallery-1 .gallery-caption {\n				margin-left: 0;\n			}\n			/* see gallery_shortcode() in wp-includes/media.php */\n		\n		\n			\n				\n			\n				\n				営農指導員から稲について説明を受けます\n				\n			\n				\n			\n				\n				牛乳パックを使って脱穀します\n				\n			\n				\n			\n				\n				一気に籾がはがれていきます！\n				\n			\n				\n			\n				\n				たくさんのワラが集まりました\n				\n			\n				\n			\n				\n				食べるのが楽しみです♪\n				\n			\n		\n\n
URL:https://www.ja-kurobe.jp/tribe_events/10_18-2/
END:VEVENT
END:VCALENDAR