BEGIN:VCALENDAR
VERSION:2.0
PRODID:-//JAくろべ - ECPv4.6.13//NONSGML v1.0//EN
CALSCALE:GREGORIAN
METHOD:PUBLISH
X-WR-CALNAME:JAくろべ
X-ORIGINAL-URL:https://www.ja-kurobe.jp
X-WR-CALDESC:Events for JAくろべ
BEGIN:VEVENT
DTSTART;VALUE=DATE:20161014
DTEND;VALUE=DATE:20161015
DTSTAMP:20260421T182407
CREATED:20161111T015429Z
LAST-MODIFIED:20161111T015429Z
UID:4202-1476403200-1476489599@www.ja-kurobe.jp
SUMMARY:バケツ稲作（鷹施小）
DESCRIPTION:\n		\n			#gallery-1 {\n				margin: auto;\n			}\n			#gallery-1 .gallery-item {\n				float: left;\n				margin-top: 10px;\n				text-align: center;\n				width: 33%;\n			}\n			#gallery-1 img {\n				border: 2px solid #cfcfcf;\n			}\n			#gallery-1 .gallery-caption {\n				margin-left: 0;\n			}\n			/* see gallery_shortcode() in wp-includes/media.php */\n		\n		\n			\n				\n			\n				\n				黒部米についての講義を行っています\n				\n			\n				\n			\n				\n				初めての作業に悪戦苦闘！\n				\n			\n				\n			\n				\n				たかせ小学校は粘土板を使って脱穀しました\n				\n			\n				\n			\n				\n				ミニダップで一気に籾摺りしました♪\n				\n			\n				\n			\n				\n				収穫の喜び！早く食べた～い\n				\n			\n		\n\n
URL:https://www.ja-kurobe.jp/tribe_events/10_14/
END:VEVENT
END:VCALENDAR