BEGIN:VCALENDAR
VERSION:2.0
PRODID:-//JAくろべ - ECPv4.6.13//NONSGML v1.0//EN
CALSCALE:GREGORIAN
METHOD:PUBLISH
X-WR-CALNAME:JAくろべ
X-ORIGINAL-URL:https://www.ja-kurobe.jp
X-WR-CALDESC:Events for JAくろべ
BEGIN:VEVENT
DTSTART;TZID=Asia/Tokyo:20171110T140000
DTEND;TZID=Asia/Tokyo:20171110T170000
DTSTAMP:20260421T095102
CREATED:20171011T015842Z
LAST-MODIFIED:20171011T015842Z
UID:6108-1510322400-1510333200@www.ja-kurobe.jp
SUMMARY:税務・法律相談日のお知らせ
DESCRIPTION:
URL:https://www.ja-kurobe.jp/tribe_events/%e7%a8%8e%e5%8b%99%e3%83%bb%e6%b3%95%e5%be%8b%e7%9b%b8%e8%ab%87%e6%97%a5%e3%81%ae%e3%81%8a%e7%9f%a5%e3%82%89%e3%81%9b/
END:VEVENT
END:VCALENDAR