BEGIN:VCALENDAR
VERSION:2.0
PRODID:-//JAくろべ - ECPv4.6.13//NONSGML v1.0//EN
CALSCALE:GREGORIAN
METHOD:PUBLISH
X-WR-CALNAME:JAくろべ
X-ORIGINAL-URL:https://www.ja-kurobe.jp
X-WR-CALDESC:Events for JAくろべ
BEGIN:VEVENT
DTSTART;VALUE=DATE:20170925
DTEND;VALUE=DATE:20170926
DTSTAMP:20260421T130338
CREATED:20171012T000850Z
LAST-MODIFIED:20171012T000850Z
UID:6197-1506297600-1506383999@www.ja-kurobe.jp
SUMMARY:村椿小学習田
DESCRIPTION:\n		\n			#gallery-1 {\n				margin: auto;\n			}\n			#gallery-1 .gallery-item {\n				float: left;\n				margin-top: 10px;\n				text-align: center;\n				width: 33%;\n			}\n			#gallery-1 img {\n				border: 2px solid #cfcfcf;\n			}\n			#gallery-1 .gallery-caption {\n				margin-left: 0;\n			}\n			/* see gallery_shortcode() in wp-includes/media.php */\n		\n		\n			\n				\n			\n				\n				こんなにたくさん収穫出来たよ\n				\n			\n				\n			\n				\n				コンバインでの脱穀\n				\n			\n				\n			\n				\n				一生懸命頑張りました\n				\n			\n				\n			\n				\n				想像以上の重労働\n				\n			\n				\n			\n				\n				丁寧に刈り取るよ\n				\n			\n		\n\n
URL:https://www.ja-kurobe.jp/tribe_events/%e6%9d%91%e6%a4%bf%e5%b0%8f%e5%ad%a6%e7%bf%92%e7%94%b0/
END:VEVENT
END:VCALENDAR