BEGIN:VCALENDAR
VERSION:2.0
PRODID:-//JAくろべ - ECPv4.6.13//NONSGML v1.0//EN
CALSCALE:GREGORIAN
METHOD:PUBLISH
X-WR-CALNAME:JAくろべ
X-ORIGINAL-URL:https://www.ja-kurobe.jp
X-WR-CALDESC:Events for JAくろべ
BEGIN:VEVENT
DTSTART;VALUE=DATE:20180711
DTEND;VALUE=DATE:20180712
DTSTAMP:20260421T100312
CREATED:20180616T020501Z
LAST-MODIFIED:20180616T020501Z
UID:7414-1531267200-1531353599@www.ja-kurobe.jp
SUMMARY:日帰り人間ドック （東布施地区）
DESCRIPTION:
URL:https://www.ja-kurobe.jp/tribe_events/%e6%97%a5%e5%b8%b0%e3%82%8a%e4%ba%ba%e9%96%93%e3%83%89%e3%83%83%e3%82%af-%ef%bc%88%e6%9d%b1%e5%b8%83%e6%96%bd%e5%9c%b0%e5%8c%ba%ef%bc%89/
END:VEVENT
END:VCALENDAR