BEGIN:VCALENDAR
VERSION:2.0
PRODID:-//JAくろべ - ECPv4.6.13//NONSGML v1.0//EN
CALSCALE:GREGORIAN
METHOD:PUBLISH
X-WR-CALNAME:JAくろべ
X-ORIGINAL-URL:https://www.ja-kurobe.jp
X-WR-CALDESC:Events for JAくろべ
BEGIN:VEVENT
DTSTART;VALUE=DATE:20180619
DTEND;VALUE=DATE:20180620
DTSTAMP:20260421T182933
CREATED:20180515T041050Z
LAST-MODIFIED:20180515T041050Z
UID:7300-1529366400-1529452799@www.ja-kurobe.jp
SUMMARY:日帰り人間ドック(若栗地区)
DESCRIPTION:
URL:https://www.ja-kurobe.jp/tribe_events/%e6%97%a5%e5%b8%b0%e3%82%8a%e4%ba%ba%e9%96%93%e3%83%89%e3%83%83%e3%82%af%e8%8b%a5%e6%a0%97%e5%9c%b0%e5%8c%ba/
END:VEVENT
END:VCALENDAR