BEGIN:VCALENDAR
VERSION:2.0
PRODID:-//JAくろべ - ECPv4.6.13//NONSGML v1.0//EN
CALSCALE:GREGORIAN
METHOD:PUBLISH
X-WR-CALNAME:JAくろべ
X-ORIGINAL-URL:https://www.ja-kurobe.jp
X-WR-CALDESC:Events for JAくろべ
BEGIN:VEVENT
DTSTART;VALUE=DATE:20180621
DTEND;VALUE=DATE:20180622
DTSTAMP:20260422T105124
CREATED:20180515T041151Z
LAST-MODIFIED:20180515T041355Z
UID:7302-1529539200-1529625599@www.ja-kurobe.jp
SUMMARY:日帰り人間ドック(愛本・内山)
DESCRIPTION:
URL:https://www.ja-kurobe.jp/tribe_events/%e6%97%a5%e5%b8%b0%e3%82%8a%e4%ba%ba%e9%96%93%e3%83%89%e3%83%83%e3%82%af%e6%84%9b%e6%9c%ac%e3%83%bb%e5%86%85%e5%b1%b1/
END:VEVENT
END:VCALENDAR