BEGIN:VCALENDAR
VERSION:2.0
PRODID:-//JAくろべ - ECPv4.6.13//NONSGML v1.0//EN
CALSCALE:GREGORIAN
METHOD:PUBLISH
X-WR-CALNAME:JAくろべ
X-ORIGINAL-URL:https://www.ja-kurobe.jp
X-WR-CALDESC:Events for JAくろべ
BEGIN:VEVENT
DTSTART;VALUE=DATE:20170827
DTEND;VALUE=DATE:20170828
DTSTAMP:20260421T145755
CREATED:20170807T082423Z
LAST-MODIFIED:20171011T074539Z
UID:5638-1503792000-1503878399@www.ja-kurobe.jp
SUMMARY:年金・ローン相談会
DESCRIPTION:\n		\n			#gallery-1 {\n				margin: auto;\n			}\n			#gallery-1 .gallery-item {\n				float: left;\n				margin-top: 10px;\n				text-align: center;\n				width: 33%;\n			}\n			#gallery-1 img {\n				border: 2px solid #cfcfcf;\n			}\n			#gallery-1 .gallery-caption {\n				margin-left: 0;\n			}\n			/* see gallery_shortcode() in wp-includes/media.php */\n		\n		\n			\n				\n			\n				\n				年金相談会の様子\n				\n			\n		\n\n
URL:https://www.ja-kurobe.jp/tribe_events/%e5%b9%b4%e9%87%91%e3%83%bb%e3%83%ad%e3%83%bc%e3%83%b3%e7%9b%b8%e8%ab%87%e4%bc%9a/
END:VEVENT
END:VCALENDAR