BEGIN:VCALENDAR
VERSION:2.0
PRODID:-//JAくろべ - ECPv4.6.13//NONSGML v1.0//EN
CALSCALE:GREGORIAN
METHOD:PUBLISH
X-WR-CALNAME:JAくろべ
X-ORIGINAL-URL:https://www.ja-kurobe.jp
X-WR-CALDESC:Events for JAくろべ
BEGIN:VEVENT
DTSTART;VALUE=DATE:20170104
DTEND;VALUE=DATE:20170105
DTSTAMP:20260421T164233
CREATED:20170220T062134Z
LAST-MODIFIED:20170220T062134Z
UID:4768-1483488000-1483574399@www.ja-kurobe.jp
SUMMARY:年賀式・ファミリー活動
DESCRIPTION:
URL:https://www.ja-kurobe.jp/tribe_events/%e5%b9%b4%e8%b3%80%e5%bc%8f%e3%83%bb%e3%83%95%e3%82%a1%e3%83%9f%e3%83%aa%e3%83%bc%e6%b4%bb%e5%8b%95/
END:VEVENT
END:VCALENDAR