BEGIN:VCALENDAR
VERSION:2.0
PRODID:-//JAくろべ - ECPv4.6.13//NONSGML v1.0//EN
CALSCALE:GREGORIAN
METHOD:PUBLISH
X-WR-CALNAME:JAくろべ
X-ORIGINAL-URL:https://www.ja-kurobe.jp
X-WR-CALDESC:Events for JAくろべ
BEGIN:VEVENT
DTSTART;TZID=Asia/Tokyo:20250128T080000
DTEND;TZID=Asia/Tokyo:20250128T170000
DTSTAMP:20260421T100142
CREATED:20250129T021351Z
LAST-MODIFIED:20250129T021351Z
UID:13240-1738051200-1738083600@www.ja-kurobe.jp
SUMMARY:定例理事会
DESCRIPTION:
URL:https://www.ja-kurobe.jp/tribe_events/%e5%ae%9a%e4%be%8b%e7%90%86%e4%ba%8b%e4%bc%9a-33/
END:VEVENT
END:VCALENDAR