BEGIN:VCALENDAR
VERSION:2.0
PRODID:-//JAくろべ - ECPv4.6.13//NONSGML v1.0//EN
CALSCALE:GREGORIAN
METHOD:PUBLISH
X-WR-CALNAME:JAくろべ
X-ORIGINAL-URL:https://www.ja-kurobe.jp
X-WR-CALDESC:Events for JAくろべ
BEGIN:VEVENT
DTSTART;TZID=Asia/Tokyo:20180623T090000
DTEND;TZID=Asia/Tokyo:20180623T170000
DTSTAMP:20260422T103204
CREATED:20180616T015925Z
LAST-MODIFIED:20180714T065256Z
UID:7399-1529744400-1529773200@www.ja-kurobe.jp
SUMMARY:夏の総合フェア
DESCRIPTION:\n		\n			#gallery-1 {\n				margin: auto;\n			}\n			#gallery-1 .gallery-item {\n				float: left;\n				margin-top: 10px;\n				text-align: center;\n				width: 33%;\n			}\n			#gallery-1 img {\n				border: 2px solid #cfcfcf;\n			}\n			#gallery-1 .gallery-caption {\n				margin-left: 0;\n			}\n			/* see gallery_shortcode() in wp-includes/media.php */\n		\n		\n			\n				\n			\n				\n				から揚げなどの屋台も人気\n				\n			\n				\n			\n				\n				さまざまな商品が並びました\n				\n			\n				\n			\n				\n				メーカー担当者から説明を受ける\n				\n			\n				\n			\n				\n				多くの来場者で賑わう\n				\n			\n				\n			\n				\n				大型商品も展示\n				\n			\n		\n\n
URL:https://www.ja-kurobe.jp/tribe_events/%e5%a4%8f%e3%81%ae%e7%b7%8f%e5%90%88%e3%83%95%e3%82%a7%e3%82%a2/
END:VEVENT
END:VCALENDAR