BEGIN:VCALENDAR
VERSION:2.0
PRODID:-//JAくろべ - ECPv4.6.13//NONSGML v1.0//EN
CALSCALE:GREGORIAN
METHOD:PUBLISH
X-WR-CALNAME:JAくろべ
X-ORIGINAL-URL:https://www.ja-kurobe.jp
X-WR-CALDESC:Events for JAくろべ
BEGIN:VEVENT
DTSTART;VALUE=DATE:20170927
DTEND;VALUE=DATE:20170928
DTSTAMP:20260421T182704
CREATED:20171012T003140Z
LAST-MODIFIED:20171012T003249Z
UID:6223-1506470400-1506556799@www.ja-kurobe.jp
SUMMARY:中部魚錠株式会社 社員研修
DESCRIPTION:\n		\n			#gallery-1 {\n				margin: auto;\n			}\n			#gallery-1 .gallery-item {\n				float: left;\n				margin-top: 10px;\n				text-align: center;\n				width: 33%;\n			}\n			#gallery-1 img {\n				border: 2px solid #cfcfcf;\n			}\n			#gallery-1 .gallery-caption {\n				margin-left: 0;\n			}\n			/* see gallery_shortcode() in wp-includes/media.php */\n		\n		\n			\n				\n			\n				\n				農協施設を見学\n				\n			\n				\n			\n				\n				まず刈り方を教わります\n				\n			\n				\n			\n				\n				中部魚錠 伊藤社長も稲刈り\n				\n			\n				\n			\n				\n				手際良く刈り取ります\n				\n			\n				\n			\n				\n				新入社員も参加\n				\n			\n				\n			\n				\n				間近で見るコンバインは迫力満点\n				\n			\n				\n			\n				\n				実際に乗りました\n				\n			\n				\n			\n				\n				脱穀体験\n				\n			\n				\n			\n				\n				凄まじい音を立てながら脱穀するコンバインに緊張\n				\n			\n				\n			\n				\n				記念撮影\n				\n			\n		\n\n
URL:https://www.ja-kurobe.jp/tribe_events/%e4%b8%ad%e9%83%a8%e9%ad%9a%e9%8c%a0%e7%a4%be%e5%93%a1%e7%a0%94%e4%bf%ae/
END:VEVENT
END:VCALENDAR