BEGIN:VCALENDAR
VERSION:2.0
PRODID:-//JAくろべ - ECPv4.6.13//NONSGML v1.0//EN
CALSCALE:GREGORIAN
METHOD:PUBLISH
X-WR-CALNAME:JAくろべ
X-ORIGINAL-URL:https://www.ja-kurobe.jp
X-WR-CALDESC:Events for JAくろべ
BEGIN:VEVENT
DTSTART;VALUE=DATE:20180815
DTEND;VALUE=DATE:20180816
DTSTAMP:20260421T100203
CREATED:20180711T080135Z
LAST-MODIFIED:20180711T080135Z
UID:7508-1534291200-1534377599@www.ja-kurobe.jp
SUMMARY:ファミリー活動 （～22日）
DESCRIPTION:ファミリー活動は15日～22日までです \n
URL:https://www.ja-kurobe.jp/tribe_events/%e3%83%95%e3%82%a1%e3%83%9f%e3%83%aa%e3%83%bc%e6%b4%bb%e5%8b%95-%ef%bc%88%ef%bd%9e22%e6%97%a5%ef%bc%89/
END:VEVENT
END:VCALENDAR