BEGIN:VCALENDAR
VERSION:2.0
PRODID:-//JAくろべ - ECPv4.6.13//NONSGML v1.0//EN
CALSCALE:GREGORIAN
METHOD:PUBLISH
X-WR-CALNAME:JAくろべ
X-ORIGINAL-URL:https://www.ja-kurobe.jp
X-WR-CALDESC:Events for JAくろべ
BEGIN:VEVENT
DTSTART;VALUE=DATE:20170928
DTEND;VALUE=DATE:20170929
DTSTAMP:20260421T200615
CREATED:20171012T004343Z
LAST-MODIFIED:20171012T005140Z
UID:6243-1506556800-1506643199@www.ja-kurobe.jp
SUMMARY:バケツ稲作(中央小学校)
DESCRIPTION:\n		\n			#gallery-1 {\n				margin: auto;\n			}\n			#gallery-1 .gallery-item {\n				float: left;\n				margin-top: 10px;\n				text-align: center;\n				width: 33%;\n			}\n			#gallery-1 img {\n				border: 2px solid #cfcfcf;\n			}\n			#gallery-1 .gallery-caption {\n				margin-left: 0;\n			}\n			/* see gallery_shortcode() in wp-includes/media.php */\n		\n		\n			\n				\n			\n				\n				手作業で脱穀\n				\n			\n				\n			\n				\n				ソフトボールで籾摺り\n				\n			\n				\n			\n				\n				息を吹きかけると籾殻だけが飛びます\n				\n			\n				\n			\n				\n				精米にしました\n				\n			\n		\n\n
URL:https://www.ja-kurobe.jp/tribe_events/%e3%83%90%e3%82%b1%e3%83%84%e7%a8%b2%e4%bd%9c%e4%b8%ad%e5%a4%ae%e5%b0%8f%e5%ad%a6%e6%a0%a1/
END:VEVENT
END:VCALENDAR