BEGIN:VCALENDAR
VERSION:2.0
PRODID:-//JAくろべ - ECPv4.6.13//NONSGML v1.0//EN
CALSCALE:GREGORIAN
METHOD:PUBLISH
X-WR-CALNAME:JAくろべ
X-ORIGINAL-URL:https://www.ja-kurobe.jp
X-WR-CALDESC:Events for JAくろべ
BEGIN:VEVENT
DTSTART;TZID=Asia/Tokyo:20170926T080000
DTEND;TZID=Asia/Tokyo:20170926T170000
DTSTAMP:20260421T164149
CREATED:20171012T001229Z
LAST-MODIFIED:20171012T001229Z
UID:6205-1506412800-1506445200@www.ja-kurobe.jp
SUMMARY:カーブミラー
DESCRIPTION:\n		\n			#gallery-1 {\n				margin: auto;\n			}\n			#gallery-1 .gallery-item {\n				float: left;\n				margin-top: 10px;\n				text-align: center;\n				width: 33%;\n			}\n			#gallery-1 img {\n				border: 2px solid #cfcfcf;\n			}\n			#gallery-1 .gallery-caption {\n				margin-left: 0;\n			}\n			/* see gallery_shortcode() in wp-includes/media.php */\n		\n		\n			\n				\n			\n				\n				JA共済のマーク\n				\n			\n				\n			\n				\n				愛本新下区公民館前にあります\n				\n			\n				\n			\n				\n				桜井小学校前にあります\n				\n			\n				\n			\n				\n				児童の安全を守ります\n				\n			\n		\n\n
URL:https://www.ja-kurobe.jp/tribe_events/%e3%82%ab%e3%83%bc%e3%83%96%e3%83%9f%e3%83%a9%e3%83%bc/
END:VEVENT
END:VCALENDAR