BEGIN:VCALENDAR
VERSION:2.0
PRODID:-//JAくろべ - ECPv4.6.13//NONSGML v1.0//EN
CALSCALE:GREGORIAN
METHOD:PUBLISH
X-WR-CALNAME:JAくろべ
X-ORIGINAL-URL:https://www.ja-kurobe.jp
X-WR-CALDESC:Events for JAくろべ
BEGIN:VEVENT
DTSTART;VALUE=DATE:20171003
DTEND;VALUE=DATE:20171004
DTSTAMP:20260421T083625
CREATED:20171012T004927Z
LAST-MODIFIED:20171012T004927Z
UID:6255-1506988800-1507075199@www.ja-kurobe.jp
SUMMARY:カトレア入魂式
DESCRIPTION:\n		\n			#gallery-1 {\n				margin: auto;\n			}\n			#gallery-1 .gallery-item {\n				float: left;\n				margin-top: 10px;\n				text-align: center;\n				width: 33%;\n			}\n			#gallery-1 img {\n				border: 2px solid #cfcfcf;\n			}\n			#gallery-1 .gallery-caption {\n				margin-left: 0;\n			}\n			/* see gallery_shortcode() in wp-includes/media.php */\n		\n		\n			\n				\n			\n				\n				内装\n				\n			\n				\n			\n				\n				入魂式\n				\n			\n				\n			\n				\n				霊柩車一台を更新\n				\n		\n\n
URL:https://www.ja-kurobe.jp/tribe_events/%e3%82%ab%e3%83%88%e3%83%ac%e3%82%a2%e5%85%a5%e9%ad%82%e5%bc%8f/
END:VEVENT
END:VCALENDAR