BEGIN:VCALENDAR
VERSION:2.0
PRODID:-//JAくろべ - ECPv4.6.13//NONSGML v1.0//EN
CALSCALE:GREGORIAN
METHOD:PUBLISH
X-WR-CALNAME:JAくろべ
X-ORIGINAL-URL:https://www.ja-kurobe.jp
X-WR-CALDESC:Events for JAくろべ
BEGIN:VEVENT
DTSTART;VALUE=DATE:20170920
DTEND;VALUE=DATE:20170921
DTSTAMP:20260421T094954
CREATED:20171011T235713Z
LAST-MODIFIED:20171011T235713Z
UID:6183-1505865600-1505951999@www.ja-kurobe.jp
SUMMARY:「富富富」検査
DESCRIPTION:\n		\n			#gallery-1 {\n				margin: auto;\n			}\n			#gallery-1 .gallery-item {\n				float: left;\n				margin-top: 10px;\n				text-align: center;\n				width: 33%;\n			}\n			#gallery-1 img {\n				border: 2px solid #cfcfcf;\n			}\n			#gallery-1 .gallery-caption {\n				margin-left: 0;\n			}\n			/* see gallery_shortcode() in wp-includes/media.php */\n		\n		\n			\n				\n			\n				\n				「富富富」は全量１等に\n				\n			\n				\n			\n				\n				検査用のサンプルをとる\n				\n			\n				\n			\n				\n				福島組合長が自ら検査済シールを貼る\n				\n		\n\n
URL:https://www.ja-kurobe.jp/tribe_events/%e3%80%8c%e5%af%8c%e5%af%8c%e5%af%8c%e3%80%8d%e6%a4%9c%e6%9f%bb/
END:VEVENT
END:VCALENDAR